Workbook

Sheet 지자체 수출
A1: 지자체 수출액 (천불) | T1: 출처: 한국무역통계 https://stat.kita.net/stat/kts/prod/ProdWholeList.screen
B2: 경기 | C2: 울산 | D2: 충남 | E2: 서울 | F2: 인천 | G2: 전남 | H2: 경남 | I2: 경북 | J2: 충북 | K2: 광주 | L2: 부산 | M2: 대구 | N2: 전북 | O2: 대전 | P2: 강원 | Q2: 세종 | R2: 제주 | S2: 총합
A3: 2000 | B3: 38041067 | C3: 19972128 | D3: 16990792 | E3: 31913418 | F3: 7526894 | G3: 5804947 | H3: 16651312 | I3: 15652528 | J3: 4747820 | K3: 3182605 | L3: 4835451 | M3: 2849349 | N3: 2881057 | O3: 837138 | P3: 337915 | R3: 39827 | S3: =SUM(B3:R3) -> 172264248
A4: 2001 | B4: 29946036 | C4: 19950546 | D4: 11652525 | E4: 29154567 | F4: 6025885 | G4: 5176724 | H4: 17134337 | I4: 14462156 | J4: 3450471 | K4: 3095249 | L4: 4566724 | M4: 2432445 | N4: 2219613 | O4: 818479 | P4: 306443 | R4: 44730 | S4: =SUM(B4:R4) -> 150436930
A5: 2002 | B5: 31965499 | C5: 24177072 | D5: 15150513 | E5: 25862921 | F5: 5680684 | G5: 6425792 | H5: 17336016 | I5: 17565775 | J5: 4019361 | K5: 3598332 | L5: 4836407 | M5: 2558821 | N5: 1943083 | O5: 933686 | P5: 371794 | R5: 44631 | S5: =SUM(B5:R5) -> 162470387
A6: 2003 | B6: 36227558 | C6: 27484944 | D6: 19806013 | E6: 27769875 | F6: 8221311 | G6: 8883563 | H6: 19236299 | I6: 25088458 | J6: 4731867 | K6: 4034833 | L6: 4844489 | M6: 2759499 | N6: 2866130 | O6: 1330358 | P6: 472396 | R6: 58578 | S6: =SUM(B6:R6) -> 193816171
A7: 2004 | B7: 46465694 | C7: 37470080 | D7: 29271550 | E7: 29923964 | F7: 10645014 | G7: 12608643 | H7: 24292390 | I7: 33951242 | J7: 7545723 | K7: 5287582 | L7: 6433917 | M7: 3155022 | N7: 4224538 | O7: 1837757 | P7: 641502 | R7: 69719 | S7: =SUM(B7:R7) -> 253824337
A8: 2005 | B8: 55670532 | C8: 45181861 | D8: 33519624 | E8: 24484859 | F8: 13032955 | G8: 16252960 | H8: 26685339 | I8: 38709171 | J8: 5663579 | K8: 7188572 | L8: 6762626 | M8: 3333227 | N8: 4850995 | O8: 2161353 | P8: 856382 | R8: 63281 | S8: =SUM(B8:R8) -> 284417316
A9: 2006 | B9: 63216600 | C9: 54939555 | D9: 38961041 | E9: 24717564 | F9: 15941546 | G9: 19045210 | H9: 31338006 | I9: 39517247 | J9: 8053819 | K9: 9141999 | L9: 8090221 | M9: 3545631 | N9: 5470985 | O9: 2395862 | P9: 1017289 | R9: 56766 | S9: =SUM(B9:R9) -> 325449341
A10: 2007 | B10: 64604500 | C10: 63951549 | D10: 47822882 | E10: 26978722 | F10: 20928105 | G10: 21988104 | H10: 36512006 | I10: 45266164 | J10: 8919774 | K10: 10143934 | L10: 10159704 | M10: 4039853 | N10: 6354452 | O10: 2580828 | P10: 1125634 | R10: 57830 | S10: =SUM(B10:R10) -> 371434041
A11: 2008 | B11: 65566261 | C11: 78802425 | D11: 42936207 | E11: 33296374 | F11: 20521233 | G11: 29037019 | H11: 56872901 | I11: 47612115 | J11: 9213140 | K11: 9412071 | L11: 12859729 | M11: 4534037 | N11: 6842081 | O11: 2989513 | P11: 1423528 | R11: 83299 | S11: =SUM(B11:R11) -> 422001933
A12: 2009 | B12: 58006546 | C12: 60814274 | D12: 39427823 | E12: 33067259 | F12: 15369353 | G12: 23294694 | H12: 54600617 | I12: 38509962 | J12: 8079892 | K12: 8883164 | L12: 9497386 | M12: 3891747 | N12: 6032293 | O12: 2850895 | P12: 1120164 | R12: 87384 | S12: =SUM(B12:R12) -> 363533453
A13: 2010 | B13: 85706475 | C13: 71383632 | D13: 54053981 | E13: 45348219 | F13: 21022046 | G13: 30415952 | H13: 58379529 | I13: 44936988 | J13: 10329539 | K13: 11581353 | L13: 12374168 | M13: 5193234 | N13: 10504847 | O13: 3546293 | P13: 1509464 | R13: 98042 | S13: =SUM(B13:R13) -> 466383762
A14: 2011 | B14: 87557181 | C14: 101480083 | D14: 59953754 | E14: 56002512 | F14: 26805483 | G14: 39991660 | H14: 65833794 | I14: 52129405 | J14: 12169671 | K14: 13339695 | L14: 14561601 | M14: 6371158 | N14: 12818350 | O14: 4122180 | P14: 1977393 | R14: 99735 | S14: =SUM(B14:R14) -> 555213655
A15: 2012 | B15: 87980366 | C15: 97212707 | D15: 61752306 | E15: 58709249 | F15: 26710239 | G15: 41906187 | H15: 55961163 | I15: 52108655 | J15: 12044722 | K15: 14132909 | L15: 13556716 | M15: 6984140 | N15: 12007224 | O15: 4274036 | P15: 2142226 | Q15: 279006 | R15: 107942 | S15: =SUM(B15:R15) -> 547869793
A16: 2013 | B16: 102005328 | C16: 91512584 | D16: 64281666 | E16: 60315670 | F16: 27288110 | G16: 41402443 | H16: 51858830 | I16: 53764598 | J16: 13735272 | K16: 15867619 | L16: 13263120 | M16: 7011634 | N16: 10115722 | O16: 4029615 | P16: 2173285 | Q16: 903653 | R16: 103285 | S16: =SUM(B16:R16) -> 559632434
A17: 2014 | B17: 111641042 | C17: 92400410 | D17: 65112462 | E17: 62329311 | F17: 30002762 | G17: 39111996 | H17: 51142433 | I17: 51476345 | J17: 14195914 | K17: 16258384 | L17: 14702010 | M17: 7807123 | N17: 8556406 | O17: 4731529 | P17: 2069748 | Q17: 1020318 | R17: 106415 | S17: =SUM(B17:R17) -> 572664608
A18: 2015 | B18: 105907816 | C18: 72907063 | D18: 67123481 | E18: 60273488 | F18: 31197699 | G18: 30494345 | H18: 47020417 | I18: 43458454 | J18: 15209839 | K18: 15304600 | L18: 15578684 | M18: 7090442 | N18: 7952249 | O18: 4306950 | P18: 1881290 | Q18: 928618 | R18: 121068 | S18: =SUM(B18:R18) -> 526756503
A19: 2016 | B19: 98090579 | C19: 65259332 | D19: 66210928 | E19: 53427752 | F19: 35818660 | G19: 27880037 | H19: 45273783 | I19: 38518064 | J19: 16003871 | K19: 14698655 | L19: 14074238 | M19: 6915116 | N19: 6290871 | O19: 4163313 | P19: 1659803 | Q19: 1011836 | R19: 128994 | S19: =SUM(B19:R19) -> 495425832
A20: 2017 | B20: 124128761 | C20: 66699541 | D20: 79842062 | E20: 57385884 | F20: 39286543 | G20: 31053659 | H20: 59474138 | I20: 44870007 | J20: 20000730 | K20: 14951085 | L20: 15064107 | M20: 7212866 | N20: 6308569 | O20: 4453922 | P20: 1782759 | Q20: 1024426 | R20: 155362 | S20: =SUM(B20:R20) -> 573694421
A21: 2018 | B21: 143337997 | C21: 70126636 | D21: 91967802 | E21: 64617983 | F21: 40781429 | G21: 36621516 | H21: 40256533 | I21: 40890627 | J21: 23233402 | K21: 14664309 | L21: 14407073 | M21: 8102542 | N21: 7828425 | O21: 4514583 | P21: 2096951 | Q21: 1229378 | R21: 182470 | S21: =SUM(B21:R21) -> 604859656
A22: 2019 | B22: 116686150 | C22: 69530068 | D22: 79950900 | E22: 57379003 | F22: 38017977 | G22: 32587309 | H22: 39352512 | I22: 37711685 | J22: 22080099 | K22: 13414657 | L22: 13924316 | M22: 7490505 | N22: 6537431 | O22: 4047925 | P22: 2087876 | Q22: 1285154 | R22: 149041 | S22: =SUM(B22:R22) -> 542232608
A23: 2020 | B23: 115156583 | C23: 56090726 | D23: 79571959 | E23: 53331604 | F23: 37700815 | G23: 27092267 | H23: 35893319 | I23: 37095530 | J23: 24870280 | K23: 13771792 | L23: 11319928 | M23: 6264700 | N23: 5841727 | O23: 5018185 | P23: 2023271 | Q23: 1300389 | R23: 154962 | S23: =SUM(B23:R23) -> 512498037
A24: 2021 | B24: 137831890 | C24: 74268500 | D24: 104119537 | E24: 68538247 | F24: 45948414 | G24: 42792948 | H24: 41268683 | I24: 44254761 | J24: 28765189 | K24: 16602861 | L24: 14816262 | M24: 7933676 | N24: 7818640 | O24: 4952668 | P24: 2729879 | Q24: 1532331 | R24: 225880 | S24: =SUM(B24:R24) -> 644400366
A25: 2022 | B25: 137418535 | C25: 90093463 | D25: 107495292 | E25: 66906500 | F25: 54270298 | G25: 49435108 | H25: 36431971 | I25: 46879110 | J25: 32411077 | K25: 17946054 | L25: 16190296 | M25: 10641153 | N25: 8219037 | O25: 4683660 | P25: 2748667 | Q25: 1620008 | R25: 194533 | S25: =SUM(B25:R25) -> 683584762 | T25: 경기 | U25: 울산 | V25: 충남 | W25: 서울
A26: 2023 | B26: 129741804 | C26: 87364507 | D26: 79393127 | E26: 66342181 | F26: 53801137 | G26: 45409727 | H26: 41940199 | I26: 41057960 | J26: 27853593 | K26: 17715957 | L26: 15111411 | M26: 11016301 | N26: 7050887 | O26: 4278337 | P26: 2707735 | Q26: 1246718 | R26: 194245 | S26: =SUM(B26:R26) -> 632225826 | T26: =B26/$S$26*100 -> 20.521434 | U26: =C26/$S$26*100 -> 13.81856 | V26: =D26/$S$26*100 -> 12.557717 | W26: =E26/$S$26*100 -> 10.493431
A27: 2000 | B27: =_xlfn.RANK.EQ(B3,$B$3:$R$3) -> 1 | C27: =_xlfn.RANK.EQ(C3,$B$3:$R$3) -> 3 | D27: =_xlfn.RANK.EQ(D3,$B$3:$R$3) -> 4 | E27: =_xlfn.RANK.EQ(E3,$B$3:$R$3) -> 2 | F27: =_xlfn.RANK.EQ(F3,$B$3:$R$3) -> 7 | G27: =_xlfn.RANK.EQ(G3,$B$3:$R$3) -> 8 | H27: =_xlfn.RANK.EQ(H3,$B$3:$R$3) -> 5 | I27: =_xlfn.RANK.EQ(I3,$B$3:$R$3) -> 6 | ... P27: =_xlfn.RANK.EQ(P3,$B$3:$R$3) -> 15 | R27: =_xlfn.RANK.EQ(R3,$B$3:$R$3) -> 16
A28: 2005 | B28: =_xlfn.RANK.EQ(B8,$B$8:$R$8) -> 1 | C28: =_xlfn.RANK.EQ(C8,$B$8:$R$8) -> 2 | D28: =_xlfn.RANK.EQ(D8,$B$8:$R$8) -> 4 | E28: =_xlfn.RANK.EQ(E8,$B$8:$R$8) -> 6 | F28: =_xlfn.RANK.EQ(F8,$B$8:$R$8) -> 8 | G28: =_xlfn.RANK.EQ(G8,$B$8:$R$8) -> 7 | H28: =_xlfn.RANK.EQ(H8,$B$8:$R$8) -> 5 | I28: =_xlfn.RANK.EQ(I8,$B$8:$R$8) -> 3 | ... P28: =_xlfn.RANK.EQ(P8,$B$8:$R$8) -> 15 | R28: =_xlfn.RANK.EQ(R8,$B$8:$R$8) -> 16
A29: 2010 | B29: =_xlfn.RANK.EQ(B13,$B$13:$R$13) -> 1 | C29: =_xlfn.RANK.EQ(C13,$B$13:$R$13) -> 2 | D29: =_xlfn.RANK.EQ(D13,$B$13:$R$13) -> 4 | E29: =_xlfn.RANK.EQ(E13,$B$13:$R$13) -> 5 | F29: =_xlfn.RANK.EQ(F13,$B$13:$R$13) -> 8 | G29: =_xlfn.RANK.EQ(G13,$B$13:$R$13) -> 7 | H29: =_xlfn.RANK.EQ(H13,$B$13:$R$13) -> 3 | I29: =_xlfn.RANK.EQ(I13,$B$13:$R$13) -> 6 | ... P29: =_xlfn.RANK.EQ(P13,$B$13:$R$13) -> 15 | R29: =_xlfn.RANK.EQ(R13,$B$13:$R$13) -> 16
A30: 2015 | B30: =_xlfn.RANK.EQ(B18,$B$18:$R$18) -> 1 | C30: =_xlfn.RANK.EQ(C18,$B$18:$R$18) -> 2 | D30: =_xlfn.RANK.EQ(D18,$B$18:$R$18) -> 3 | E30: =_xlfn.RANK.EQ(E18,$B$18:$R$18) -> 4 | F30: =_xlfn.RANK.EQ(F18,$B$18:$R$18) -> 7 | G30: =_xlfn.RANK.EQ(G18,$B$18:$R$18) -> 8 | H30: =_xlfn.RANK.EQ(H18,$B$18:$R$18) -> 5 | I30: =_xlfn.RANK.EQ(I18,$B$18:$R$18) -> 6 | ... R30: =_xlfn.RANK.EQ(R18,$B$18:$R$18) -> 17
A31: 2020 | B31: =_xlfn.RANK.EQ(B23,$B$23:$R$23) -> 1 | C31: =_xlfn.RANK.EQ(C23,$B$23:$R$23) -> 3 | D31: =_xlfn.RANK.EQ(D23,$B$23:$R$23) -> 2 | E31: =_xlfn.RANK.EQ(E23,$B$23:$R$23) -> 4 | F31: =_xlfn.RANK.EQ(F23,$B$23:$R$23) -> 5 | G31: =_xlfn.RANK.EQ(G23,$B$23:$R$23) -> 8 | H31: =_xlfn.RANK.EQ(H23,$B$23:$R$23) -> 7 | I31: =_xlfn.RANK.EQ(I23,$B$23:$R$23) -> 6 | ... R31: =_xlfn.RANK.EQ(R23,$B$23:$R$23) -> 17
A32: 2023 | B32: =_xlfn.RANK.EQ(B26,$B$26:$R$26) -> 1 | C32: =_xlfn.RANK.EQ(C26,$B$26:$R$26) -> 2 | D32: =_xlfn.RANK.EQ(D26,$B$26:$R$26) -> 3 | E32: =_xlfn.RANK.EQ(E26,$B$26:$R$26) -> 4 | F32: =_xlfn.RANK.EQ(F26,$B$26:$R$26) -> 5 | G32: =_xlfn.RANK.EQ(G26,$B$26:$R$26) -> 6 | H32: =_xlfn.RANK.EQ(H26,$B$26:$R$26) -> 7 | I32: =_xlfn.RANK.EQ(I26,$B$26:$R$26) -> 8 | ... R32: =_xlfn.RANK.EQ(R26,$B$26:$R$26) -> 17
A34: 지자체 수출액 (억불)
B35: 경기 | C35: 울산 | D35: 충남 | E35: 서울 | F35: 인천 | G35: 전남 | H35: 경남 | I35: 경북 | J35: 충북 | K35: 광주 | L35: 부산 | M35: 대구 | N35: 전북 | O35: 대전 | P35: 강원 | Q35: 세종 | R35: 제주
A36: 2000 | B36: ='지자체 수출'!B26/100000 -> 1297.418 | C36: ='지자체 수출'!C26/100000 -> 873.64507 | D36: ='지자체 수출'!D26/100000 -> 793.93127 | E36: ='지자체 수출'!E26/100000 -> 663.42181 | F36: ='지자체 수출'!F26/100000 -> 538.01137 | G36: ='지자체 수출'!G26/100000 -> 454.09727 | H36: ='지자체 수출'!H26/100000 -> 419.40199 | I36: ='지자체 수출'!I26/100000 -> 410.5796 | ... P36: ='지자체 수출'!P26/100000 -> 27.07735 | R36: ='지자체 수출'!R26/100000 -> 1.94245
A37: 2001 | B37: ='지자체 수출'!B25/100000 -> 1374.1853 | C37: ='지자체 수출'!C25/100000 -> 900.93463 | D37: ='지자체 수출'!D25/100000 -> 1074.9529 | E37: ='지자체 수출'!E25/100000 -> 669.065 | F37: ='지자체 수출'!F25/100000 -> 542.70298 | G37: ='지자체 수출'!G25/100000 -> 494.35108 | H37: ='지자체 수출'!H25/100000 -> 364.31971 | I37: ='지자체 수출'!I25/100000 -> 468.7911 | ... P37: ='지자체 수출'!P25/100000 -> 27.48667 | R37: ='지자체 수출'!R25/100000 -> 1.94533
A38: 2002 | B38: ='지자체 수출'!B24/100000 -> 1378.3189 | C38: ='지자체 수출'!C24/100000 -> 742.685 | D38: ='지자체 수출'!D24/100000 -> 1041.1954 | E38: ='지자체 수출'!E24/100000 -> 685.38247 | F38: ='지자체 수출'!F24/100000 -> 459.48414 | G38: ='지자체 수출'!G24/100000 -> 427.92948 | H38: ='지자체 수출'!H24/100000 -> 412.68683 | I38: ='지자체 수출'!I24/100000 -> 442.54761 | ... P38: ='지자체 수출'!P24/100000 -> 27.29879 | R38: ='지자체 수출'!R24/100000 -> 2.2588
A39: 2003 | B39: ='지자체 수출'!B23/100000 -> 1151.5658 | C39: ='지자체 수출'!C23/100000 -> 560.90726 | D39: ='지자체 수출'!D23/100000 -> 795.71959 | E39: ='지자체 수출'!E23/100000 -> 533.31604 | F39: ='지자체 수출'!F23/100000 -> 377.00815 | G39: ='지자체 수출'!G23/100000 -> 270.92267 | H39: ='지자체 수출'!H23/100000 -> 358.93319 | I39: ='지자체 수출'!I23/100000 -> 370.9553 | ... P39: ='지자체 수출'!P23/100000 -> 20.23271 | R39: ='지자체 수출'!R23/100000 -> 1.54962
A40: 2004 | B40: ='지자체 수출'!B22/100000 -> 1166.8615 | C40: ='지자체 수출'!C22/100000 -> 695.30068 | D40: ='지자체 수출'!D22/100000 -> 799.509 | E40: ='지자체 수출'!E22/100000 -> 573.79003 | F40: ='지자체 수출'!F22/100000 -> 380.17977 | G40: ='지자체 수출'!G22/100000 -> 325.87309 | H40: ='지자체 수출'!H22/100000 -> 393.52512 | I40: ='지자체 수출'!I22/100000 -> 377.11685 | ... P40: ='지자체 수출'!P22/100000 -> 20.87876 | R40: ='지자체 수출'!R22/100000 -> 1.49041
A41: 2005 | B41: ='지자체 수출'!B21/100000 -> 1433.38 | C41: ='지자체 수출'!C21/100000 -> 701.26636 | D41: ='지자체 수출'!D21/100000 -> 919.67802 | E41: ='지자체 수출'!E21/100000 -> 646.17983 | F41: ='지자체 수출'!F21/100000 -> 407.81429 | G41: ='지자체 수출'!G21/100000 -> 366.21516 | H41: ='지자체 수출'!H21/100000 -> 402.56533 | I41: ='지자체 수출'!I21/100000 -> 408.90627 | ... P41: ='지자체 수출'!P21/100000 -> 20.96951 | R41: ='지자체 수출'!R21/100000 -> 1.8247
...
