Workbook

Sheet 지자체 수출
A1: 지자체 수출액 (천불) | T1: 출처: 한국무역통계 https://stat.kita.net/stat/kts/prod/ProdWholeList.screen
B2: 경기 | C2: 울산 | D2: 충남 | E2: 서울 | F2: 인천 | G2: 전남 | H2: 경남 | I2: 경북 | J2: 충북 | K2: 광주 | L2: 부산 | M2: 대구 | N2: 전북 | O2: 대전 | P2: 강원 | Q2: 세종 | R2: 제주 | S2: 총합
A3: 2000 | B3: 38041067 | C3: 19972128 | D3: 16990792 | E3: 31913418 | F3: 7526894 | G3: 5804947 | H3: 16651312 | I3: 15652528 | J3: 4747820 | K3: 3182605 | L3: 4835451 | M3: 2849349 | N3: 2881057 | O3: 837138 | P3: 337915 | R3: 39827 | S3: =SUM(B3:R3) -> 172264248
A4: 2001 | B4: 29946036 | C4: 19950546 | D4: 11652525 | E4: 29154567 | F4: 6025885 | G4: 5176724 | H4: 17134337 | I4: 14462156 | J4: 3450471 | K4: 3095249 | L4: 4566724 | M4: 2432445 | N4: 2219613 | O4: 818479 | P4: 306443 | R4: 44730 | S4: =SUM(B4:R4) -> 150436930
A5: 2002 | B5: 31965499 | C5: 24177072 | D5: 15150513 | E5: 25862921 | F5: 5680684 | G5: 6425792 | H5: 17336016 | I5: 17565775 | J5: 4019361 | K5: 3598332 | L5: 4836407 | M5: 2558821 | N5: 1943083 | O5: 933686 | P5: 371794 | R5: 44631 | S5: =SUM(B5:R5) -> 162470387
A6: 2003 | B6: 36227558 | C6: 27484944 | D6: 19806013 | E6: 27769875 | F6: 8221311 | G6: 8883563 | H6: 19236299 | I6: 25088458 | J6: 4731867 | K6: 4034833 | L6: 4844489 | M6: 2759499 | N6: 2866130 | O6: 1330358 | P6: 472396 | R6: 58578 | S6: =SUM(B6:R6) -> 193816171
A7: 2004 | B7: 46465694 | C7: 37470080 | D7: 29271550 | E7: 29923964 | F7: 10645014 | G7: 12608643 | H7: 24292390 | I7: 33951242 | J7: 7545723 | K7: 5287582 | L7: 6433917 | M7: 3155022 | N7: 4224538 | O7: 1837757 | P7: 641502 | R7: 69719 | S7: =SUM(B7:R7) -> 253824337
A8: 2005 | B8: 55670532 | C8: 45181861 | D8: 33519624 | E8: 24484859 | F8: 13032955 | G8: 16252960 | H8: 26685339 | I8: 38709171 | J8: 5663579 | K8: 7188572 | L8: 6762626 | M8: 3333227 | N8: 4850995 | O8: 2161353 | P8: 856382 | R8: 63281 | S8: =SUM(B8:R8) -> 284417316
A9: 2006 | B9: 63216600 | C9: 54939555 | D9: 38961041 | E9: 24717564 | F9: 15941546 | G9: 19045210 | H9: 31338006 | I9: 39517247 | J9: 8053819 | K9: 9141999 | L9: 8090221 | M9: 3545631 | N9: 5470985 | O9: 2395862 | P9: 1017289 | R9: 56766 | S9: =SUM(B9:R9) -> 325449341
A10: 2007 | B10: 64604500 | C10: 63951549 | D10: 47822882 | E10: 26978722 | F10: 20928105 | G10: 21988104 | H10: 36512006 | I10: 45266164 | J10: 8919774 | K10: 10143934 | L10: 10159704 | M10: 4039853 | N10: 6354452 | O10: 2580828 | P10: 1125634 | R10: 57830 | S10: =SUM(B10:R10) -> 371434041
A11: 2008 | B11: 65566261 | C11: 78802425 | D11: 42936207 | E11: 33296374 | F11: 20521233 | G11: 29037019 | H11: 56872901 | I11: 47612115 | J11: 9213140 | K11: 9412071 | L11: 12859729 | M11: 4534037 | N11: 6842081 | O11: 2989513 | P11: 1423528 | R11: 83299 | S11: =SUM(B11:R11) -> 422001933
A12: 2009 | B12: 58006546 | C12: 60814274 | D12: 39427823 | E12: 33067259 | F12: 15369353 | G12: 23294694 | H12: 54600617 | I12: 38509962 | J12: 8079892 | K12: 8883164 | L12: 9497386 | M12: 3891747 | N12: 6032293 | O12: 2850895 | P12: 1120164 | R12: 87384 | S12: =SUM(B12:R12) -> 363533453
A13: 2010 | B13: 85706475 | C13: 71383632 | D13: 54053981 | E13: 45348219 | F13: 21022046 | G13: 30415952 | H13: 58379529 | I13: 44936988 | J13: 10329539 | K13: 11581353 | L13: 12374168 | M13: 5193234 | N13: 10504847 | O13: 3546293 | P13: 1509464 | R13: 98042 | S13: =SUM(B13:R13) -> 466383762
A14: 2011 | B14: 87557181 | C14: 101480083 | D14: 59953754 | E14: 56002512 | F14: 26805483 | G14: 39991660 | H14: 65833794 | I14: 52129405 | J14: 12169671 | K14: 13339695 | L14: 14561601 | M14: 6371158 | N14: 12818350 | O14: 4122180 | P14: 1977393 | R14: 99735 | S14: =SUM(B14:R14) -> 555213655
A15: 2012 | B15: 87980366 | C15: 97212707 | D15: 61752306 | E15: 58709249 | F15: 26710239 | G15: 41906187 | H15: 55961163 | I15: 52108655 | J15: 12044722 | K15: 14132909 | L15: 13556716 | M15: 6984140 | N15: 12007224 | O15: 4274036 | P15: 2142226 | Q15: 279006 | R15: 107942 | S15: =SUM(B15:R15) -> 547869793
A16: 2013 | B16: 102005328 | C16: 91512584 | D16: 64281666 | E16: 60315670 | F16: 27288110 | G16: 41402443 | H16: 51858830 | I16: 53764598 | J16: 13735272 | K16: 15867619 | L16: 13263120 | M16: 7011634 | N16: 10115722 | O16: 4029615 | P16: 2173285 | Q16: 903653 | R16: 103285 | S16: =SUM(B16:R16) -> 559632434
A17: 2014 | B17: 111641042 | C17: 92400410 | D17: 65112462 | E17: 62329311 | F17: 30002762 | G17: 39111996 | H17: 51142433 | I17: 51476345 | J17: 14195914 | K17: 16258384 | L17: 14702010 | M17: 7807123 | N17: 8556406 | O17: 4731529 | P17: 2069748 | Q17: 1020318 | R17: 106415 | S17: =SUM(B17:R17) -> 572664608
A18: 2015 | B18: 105907816 | C18: 72907063 | D18: 67123481 | E18: 60273488 | F18: 31197699 | G18: 30494345 | H18: 47020417 | I18: 43458454 | J18: 15209839 | K18: 15304600 | L18: 15578684 | M18: 7090442 | N18: 7952249 | O18: 4306950 | P18: 1881290 | Q18: 928618 | R18: 121068 | S18: =SUM(B18:R18) -> 526756503
A19: 2016 | B19: 98090579 | C19: 65259332 | D19: 66210928 | E19: 53427752 | F19: 35818660 | G19: 27880037 | H19: 45273783 | I19: 38518064 | J19: 16003871 | K19: 14698655 | L19: 14074238 | M19: 6915116 | N19: 6290871 | O19: 4163313 | P19: 1659803 | Q19: 1011836 | R19: 128994 | S19: =SUM(B19:R19) -> 495425832
A20: 2017 | B20: 124128761 | C20: 66699541 | D20: 79842062 | E20: 57385884 | F20: 39286543 | G20: 31053659 | H20: 59474138 | I20: 44870007 | J20: 20000730 | K20: 14951085 | L20: 15064107 | M20: 7212866 | N20: 6308569 | O20: 4453922 | P20: 1782759 | Q20: 1024426 | R20: 155362 | S20: =SUM(B20:R20) -> 573694421
A21: 2018 | B21: 143337997 | C21: 70126636 | D21: 91967802 | E21: 64617983 | F21: 40781429 | G21: 36621516 | H21: 40256533 | I21: 40890627 | J21: 23233402 | K21: 14664309 | L21: 14407073 | M21: 8102542 | N21: 7828425 | O21: 4514583 | P21: 2096951 | Q21: 1229378 | R21: 182470 | S21: =SUM(B21:R21) -> 604859656
A22: 2019 | B22: 116686150 | C22: 69530068 | D22: 79950900 | E22: 57379003 | F22: 38017977 | G22: 32587309 | H22: 39352512 | I22: 37711685 | J22: 22080099 | K22: 13414657 | L22: 13924316 | M22: 7490505 | N22: 6537431 | O22: 4047925 | P22: 2087876 | Q22: 1285154 | R22: 149041 | S22: =SUM(B22:R22) -> 542232608
A23: 2020 | B23: 115156583 | C23: 56090726 | D23: 79571959 | E23: 53331604 | F23: 37700815 | G23: 27092267 | H23: 35893319 | I23: 37095530 | J23: 24870280 | K23: 13771792 | L23: 11319928 | M23: 6264700 | N23: 5841727 | O23: 5018185 | P23: 2023271 | Q23: 1300389 | R23: 154962 | S23: =SUM(B23:R23) -> 512498037
A24: 2021 | B24: 137831890 | C24: 74268500 | D24: 104119537 | E24: 68538247 | F24: 45948414 | G24: 42792948 | H24: 41268683 | I24: 44254761 | J24: 28765189 | K24: 16602861 | L24: 14816262 | M24: 7933676 | N24: 7818640 | O24: 4952668 | P24: 2729879 | Q24: 1532331 | R24: 225880 | S24: =SUM(B24:R24) -> 644400366
A25: 2022 | B25: 137418535 | C25: 90093463 | D25: 107495292 | E25: 66906500 | F25: 54270298 | G25: 49435108 | H25: 36431971 | I25: 46879110 | J25: 32411077 | K25: 17946054 | L25: 16190296 | M25: 10641153 | N25: 8219037 | O25: 4683660 | P25: 2748667 | Q25: 1620008 | R25: 194533 | S25: =SUM(B25:R25) -> 683584762 | T25: 경기 | U25: 울산 | V25: 충남 | W25: 서울
A26: 2023 | B26: 129741804 | C26: 87364507 | D26: 79393127 | E26: 66342181 | F26: 53801137 | G26: 45409727 | H26: 41940199 | I26: 41057960 | J26: 27853593 | K26: 17715957 | L26: 15111411 | M26: 11016301 | N26: 7050887 | O26: 4278337 | P26: 2707735 | Q26: 1246718 | R26: 194245 | S26: =SUM(B26:R26) -> 632225826 | T26: =B26/$S$26*100 -> 20.521434 | U26: =C26/$S$26*100 -> 13.81856 | V26: =D26/$S$26*100 -> 12.557717 | W26: =E26/$S$26*100 -> 10.493431
A27: 2000 | B27: =_xlfn.RANK.EQ(B3,$B$3:$R$3) -> 1 | C27: =_xlfn.RANK.EQ(C3,$B$3:$R$3) -> 3 | D27: =_xlfn.RANK.EQ(D3,$B$3:$R$3) -> 4 | E27: =_xlfn.RANK.EQ(E3,$B$3:$R$3) -> 2 | F27: =_xlfn.RANK.EQ(F3,$B$3:$R$3) -> 7 | G27: =_xlfn.RANK.EQ(G3,$B$3:$R$3) -> 8 | H27: =_xlfn.RANK.EQ(H3,$B$3:$R$3) -> 5 | I27: =_xlfn.RANK.EQ(I3,$B$3:$R$3) -> 6 | ... P27: =_xlfn.RANK.EQ(P3,$B$3:$R$3) -> 15 | R27: =_xlfn.RANK.EQ(R3,$B$3:$R$3) -> 16
A28: 2005 | B28: =_xlfn.RANK.EQ(B8,$B$8:$R$8) -> 1 | C28: =_xlfn.RANK.EQ(C8,$B$8:$R$8) -> 2 | D28: =_xlfn.RANK.EQ(D8,$B$8:$R$8) -> 4 | E28: =_xlfn.RANK.EQ(E8,$B$8:$R$8) -> 6 | F28: =_xlfn.RANK.EQ(F8,$B$8:$R$8) -> 8 | G28: =_xlfn.RANK.EQ(G8,$B$8:$R$8) -> 7 | H28: =_xlfn.RANK.EQ(H8,$B$8:$R$8) -> 5 | I28: =_xlfn.RANK.EQ(I8,$B$8:$R$8) -> 3 | ... P28: =_xlfn.RANK.EQ(P8,$B$8:$R$8) -> 15 | R28: =_xlfn.RANK.EQ(R8,$B$8:$R$8) -> 16
A29: 2010 | B29: =_xlfn.RANK.EQ(B13,$B$13:$R$13) -> 1 | C29: =_xlfn.RANK.EQ(C13,$B$13:$R$13) -> 2 | D29: =_xlfn.RANK.EQ(D13,$B$13:$R$13) -> 4 | E29: =_xlfn.RANK.EQ(E13,$B$13:$R$13) -> 5 | F29: =_xlfn.RANK.EQ(F13,$B$13:$R$13) -> 8 | G29: =_xlfn.RANK.EQ(G13,$B$13:$R$13) -> 7 | H29: =_xlfn.RANK.EQ(H13,$B$13:$R$13) -> 3 | I29: =_xlfn.RANK.EQ(I13,$B$13:$R$13) -> 6 | ... P29: =_xlfn.RANK.EQ(P13,$B$13:$R$13) -> 15 | R29: =_xlfn.RANK.EQ(R13,$B$13:$R$13) -> 16
A30: 2015 | B30: =_xlfn.RANK.EQ(B18,$B$18:$R$18) -> 1 | C30: =_xlfn.RANK.EQ(C18,$B$18:$R$18) -> 2 | D30: =_xlfn.RANK.EQ(D18,$B$18:$R$18) -> 3 | E30: =_xlfn.RANK.EQ(E18,$B$18:$R$18) -> 4 | F30: =_xlfn.RANK.EQ(F18,$B$18:$R$18) -> 7 | G30: =_xlfn.RANK.EQ(G18,$B$18:$R$18) -> 8 | H30: =_xlfn.RANK.EQ(H18,$B$18:$R$18) -> 5 | I30: =_xlfn.RANK.EQ(I18,$B$18:$R$18) -> 6 | ... R30: =_xlfn.RANK.EQ(R18,$B$18:$R$18) -> 17
A31: 2020 | B31: =_xlfn.RANK.EQ(B23,$B$23:$R$23) -> 1 | C31: =_xlfn.RANK.EQ(C23,$B$23:$R$23) -> 3 | D31: =_xlfn.RANK.EQ(D23,$B$23:$R$23) -> 2 | E31: =_xlfn.RANK.EQ(E23,$B$23:$R$23) -> 4 | F31: =_xlfn.RANK.EQ(F23,$B$23:$R$23) -> 5 | G31: =_xlfn.RANK.EQ(G23,$B$23:$R$23) -> 8 | H31: =_xlfn.RANK.EQ(H23,$B$23:$R$23) -> 7 | I31: =_xlfn.RANK.EQ(I23,$B$23:$R$23) -> 6 | ... R31: =_xlfn.RANK.EQ(R23,$B$23:$R$23) -> 17
A32: 2023 | B32: =_xlfn.RANK.EQ(B26,$B$26:$R$26) -> 1 | C32: =_xlfn.RANK.EQ(C26,$B$26:$R$26) -> 2 | D32: =_xlfn.RANK.EQ(D26,$B$26:$R$26) -> 3 | E32: =_xlfn.RANK.EQ(E26,$B$26:$R$26) -> 4 | F32: =_xlfn.RANK.EQ(F26,$B$26:$R$26) -> 5 | G32: =_xlfn.RANK.EQ(G26,$B$26:$R$26) -> 6 | H32: =_xlfn.RANK.EQ(H26,$B$26:$R$26) -> 7 | I32: =_xlfn.RANK.EQ(I26,$B$26:$R$26) -> 8 | ... R32: =_xlfn.RANK.EQ(R26,$B$26:$R$26) -> 17
A34: 지자체 수출액 (억불)
B35: 경기 | C35: 울산 | D35: 충남 | E35: 서울 | F35: 인천 | G35: 전남 | H35: 경남 | I35: 경북 | J35: 충북 | K35: 광주 | L35: 부산 | M35: 대구 | N35: 전북 | O35: 대전 | P35: 강원 | Q35: 세종 | R35: 제주
A36: 2000 | B36: ='지자체 수출'!B26/100000 -> 1297.418 | C36: ='지자체 수출'!C26/100000 -> 873.64507 | D36: ='지자체 수출'!D26/100000 -> 793.93127 | E36: ='지자체 수출'!E26/100000 -> 663.42181 | F36: ='지자체 수출'!F26/100000 -> 538.01137 | G36: ='지자체 수출'!G26/100000 -> 454.09727 | H36: ='지자체 수출'!H26/100000 -> 419.40199 | I36: ='지자체 수출'!I26/100000 -> 410.5796 | ... P36: ='지자체 수출'!P26/100000 -> 27.07735 | R36: ='지자체 수출'!R26/100000 -> 1.94245
A37: 2001 | B37: ='지자체 수출'!B25/100000 -> 1374.1853 | C37: ='지자체 수출'!C25/100000 -> 900.93463 | D37: ='지자체 수출'!D25/100000 -> 1074.9529 | E37: ='지자체 수출'!E25/100000 -> 669.065 | F37: ='지자체 수출'!F25/100000 -> 542.70298 | G37: ='지자체 수출'!G25/100000 -> 494.35108 | H37: ='지자체 수출'!H25/100000 -> 364.31971 | I37: ='지자체 수출'!I25/100000 -> 468.7911 | ... P37: ='지자체 수출'!P25/100000 -> 27.48667 | R37: ='지자체 수출'!R25/100000 -> 1.94533
A38: 2002 | B38: ='지자체 수출'!B24/100000 -> 1378.3189 | C38: ='지자체 수출'!C24/100000 -> 742.685 | D38: ='지자체 수출'!D24/100000 -> 1041.1954 | E38: ='지자체 수출'!E24/100000 -> 685.38247 | F38: ='지자체 수출'!F24/100000 -> 459.48414 | G38: ='지자체 수출'!G24/100000 -> 427.92948 | H38: ='지자체 수출'!H24/100000 -> 412.68683 | I38: ='지자체 수출'!I24/100000 -> 442.54761 | ... P38: ='지자체 수출'!P24/100000 -> 27.29879 | R38: ='지자체 수출'!R24/100000 -> 2.2588
A39: 2003 | B39: ='지자체 수출'!B23/100000 -> 1151.5658 | C39: ='지자체 수출'!C23/100000 -> 560.90726 | D39: ='지자체 수출'!D23/100000 -> 795.71959 | E39: ='지자체 수출'!E23/100000 -> 533.31604 | F39: ='지자체 수출'!F23/100000 -> 377.00815 | G39: ='지자체 수출'!G23/100000 -> 270.92267 | H39: ='지자체 수출'!H23/100000 -> 358.93319 | I39: ='지자체 수출'!I23/100000 -> 370.9553 | ... P39: ='지자체 수출'!P23/100000 -> 20.23271 | R39: ='지자체 수출'!R23/100000 -> 1.54962
A40: 2004 | B40: ='지자체 수출'!B22/100000 -> 1166.8615 | C40: ='지자체 수출'!C22/100000 -> 695.30068 | D40: ='지자체 수출'!D22/100000 -> 799.509 | E40: ='지자체 수출'!E22/100000 -> 573.79003 | F40: ='지자체 수출'!F22/100000 -> 380.17977 | G40: ='지자체 수출'!G22/100000 -> 325.87309 | H40: ='지자체 수출'!H22/100000 -> 393.52512 | I40: ='지자체 수출'!I22/100000 -> 377.11685 | ... P40: ='지자체 수출'!P22/100000 -> 20.87876 | R40: ='지자체 수출'!R22/100000 -> 1.49041
A41: 2005 | B41: ='지자체 수출'!B21/100000 -> 1433.38 | C41: ='지자체 수출'!C21/100000 -> 701.26636 | D41: ='지자체 수출'!D21/100000 -> 919.67802 | E41: ='지자체 수출'!E21/100000 -> 646.17983 | F41: ='지자체 수출'!F21/100000 -> 407.81429 | G41: ='지자체 수출'!G21/100000 -> 366.21516 | H41: ='지자체 수출'!H21/100000 -> 402.56533 | I41: ='지자체 수출'!I21/100000 -> 408.90627 | ... P41: ='지자체 수출'!P21/100000 -> 20.96951 | R41: ='지자체 수출'!R21/100000 -> 1.8247
A42: 2006 | B42: ='지자체 수출'!B20/100000 -> 1241.2876 | C42: ='지자체 수출'!C20/100000 -> 666.99541 | D42: ='지자체 수출'!D20/100000 -> 798.42062 | E42: ='지자체 수출'!E20/100000 -> 573.85884 | F42: ='지자체 수출'!F20/100000 -> 392.86543 | G42: ='지자체 수출'!G20/100000 -> 310.53659 | H42: ='지자체 수출'!H20/100000 -> 594.74138 | I42: ='지자체 수출'!I20/100000 -> 448.70007 | ... P42: ='지자체 수출'!P20/100000 -> 17.82759 | R42: ='지자체 수출'!R20/100000 -> 1.55362
A43: 2007 | B43: ='지자체 수출'!B19/100000 -> 980.90579 | C43: ='지자체 수출'!C19/100000 -> 652.59332 | D43: ='지자체 수출'!D19/100000 -> 662.10928 | E43: ='지자체 수출'!E19/100000 -> 534.27752 | F43: ='지자체 수출'!F19/100000 -> 358.1866 | G43: ='지자체 수출'!G19/100000 -> 278.80037 | H43: ='지자체 수출'!H19/100000 -> 452.73783 | I43: ='지자체 수출'!I19/100000 -> 385.18064 | ... P43: ='지자체 수출'!P19/100000 -> 16.59803 | R43: ='지자체 수출'!R19/100000 -> 1.28994
A44: 2008 | B44: ='지자체 수출'!B18/100000 -> 1059.0782 | C44: ='지자체 수출'!C18/100000 -> 729.07063 | D44: ='지자체 수출'!D18/100000 -> 671.23481 | E44: ='지자체 수출'!E18/100000 -> 602.73488 | F44: ='지자체 수출'!F18/100000 -> 311.97699 | G44: ='지자체 수출'!G18/100000 -> 304.94345 | H44: ='지자체 수출'!H18/100000 -> 470.20417 | I44: ='지자체 수출'!I18/100000 -> 434.58454 | ... P44: ='지자체 수출'!P18/100000 -> 18.8129 | R44: ='지자체 수출'!R18/100000 -> 1.21068
A45: 2009 | B45: ='지자체 수출'!B17/100000 -> 1116.4104 | C45: ='지자체 수출'!C17/100000 -> 924.0041 | D45: ='지자체 수출'!D17/100000 -> 651.12462 | E45: ='지자체 수출'!E17/100000 -> 623.29311 | F45: ='지자체 수출'!F17/100000 -> 300.02762 | G45: ='지자체 수출'!G17/100000 -> 391.11996 | H45: ='지자체 수출'!H17/100000 -> 511.42433 | I45: ='지자체 수출'!I17/100000 -> 514.76345 | ... P45: ='지자체 수출'!P17/100000 -> 20.69748 | R45: ='지자체 수출'!R17/100000 -> 1.06415
A46: 2010 | B46: ='지자체 수출'!B16/100000 -> 1020.0533 | C46: ='지자체 수출'!C16/100000 -> 915.12584 | D46: ='지자체 수출'!D16/100000 -> 642.81666 | E46: ='지자체 수출'!E16/100000 -> 603.1567 | F46: ='지자체 수출'!F16/100000 -> 272.8811 | G46: ='지자체 수출'!G16/100000 -> 414.02443 | H46: ='지자체 수출'!H16/100000 -> 518.5883 | I46: ='지자체 수출'!I16/100000 -> 537.64598 | ... P46: ='지자체 수출'!P16/100000 -> 21.73285 | R46: ='지자체 수출'!R16/100000 -> 1.03285
A47: 2011 | B47: ='지자체 수출'!B15/100000 -> 879.80366 | C47: ='지자체 수출'!C15/100000 -> 972.12707 | D47: ='지자체 수출'!D15/100000 -> 617.52306 | E47: ='지자체 수출'!E15/100000 -> 587.09249 | F47: ='지자체 수출'!F15/100000 -> 267.10239 | G47: ='지자체 수출'!G15/100000 -> 419.06187 | H47: ='지자체 수출'!H15/100000 -> 559.61163 | I47: ='지자체 수출'!I15/100000 -> 521.08655 | ... P47: ='지자체 수출'!P15/100000 -> 21.42226 | R47: ='지자체 수출'!R15/100000 -> 1.07942
A48: 2012 | B48: ='지자체 수출'!B14/100000 -> 875.57181 | C48: ='지자체 수출'!C14/100000 -> 1014.8008 | D48: ='지자체 수출'!D14/100000 -> 599.53754 | E48: ='지자체 수출'!E14/100000 -> 560.02512 | F48: ='지자체 수출'!F14/100000 -> 268.05483 | G48: ='지자체 수출'!G14/100000 -> 399.9166 | H48: ='지자체 수출'!H14/100000 -> 658.33794 | I48: ='지자체 수출'!I14/100000 -> 521.29405 | ... R48: ='지자체 수출'!R14/100000 -> 0.99735
A49: 2013 | B49: ='지자체 수출'!B13/100000 -> 857.06475 | C49: ='지자체 수출'!C13/100000 -> 713.83632 | D49: ='지자체 수출'!D13/100000 -> 540.53981 | E49: ='지자체 수출'!E13/100000 -> 453.48219 | F49: ='지자체 수출'!F13/100000 -> 210.22046 | G49: ='지자체 수출'!G13/100000 -> 304.15952 | H49: ='지자체 수출'!H13/100000 -> 583.79529 | I49: ='지자체 수출'!I13/100000 -> 449.36988 | ... R49: ='지자체 수출'!R13/100000 -> 0.98042
A50: 2014 | B50: ='지자체 수출'!B12/100000 -> 580.06546 | C50: ='지자체 수출'!C12/100000 -> 608.14274 | D50: ='지자체 수출'!D12/100000 -> 394.27823 | E50: ='지자체 수출'!E12/100000 -> 330.67259 | F50: ='지자체 수출'!F12/100000 -> 153.69353 | G50: ='지자체 수출'!G12/100000 -> 232.94694 | H50: ='지자체 수출'!H12/100000 -> 546.00617 | I50: ='지자체 수출'!I12/100000 -> 385.09962 | ... R50: ='지자체 수출'!R12/100000 -> 0.87384
A51: 2015 | B51: ='지자체 수출'!B11/100000 -> 655.66261 | C51: ='지자체 수출'!C11/100000 -> 788.02425 | D51: ='지자체 수출'!D11/100000 -> 429.36207 | E51: ='지자체 수출'!E11/100000 -> 332.96374 | F51: ='지자체 수출'!F11/100000 -> 205.21233 | G51: ='지자체 수출'!G11/100000 -> 290.37019 | H51: ='지자체 수출'!H11/100000 -> 568.72901 | I51: ='지자체 수출'!I11/100000 -> 476.12115 | ... R51: ='지자체 수출'!R11/100000 -> 0.83299
A52: 2016 | B52: ='지자체 수출'!B10/100000 -> 646.045 | C52: ='지자체 수출'!C10/100000 -> 639.51549 | D52: ='지자체 수출'!D10/100000 -> 478.22882 | E52: ='지자체 수출'!E10/100000 -> 269.78722 | F52: ='지자체 수출'!F10/100000 -> 209.28105 | G52: ='지자체 수출'!G10/100000 -> 219.88104 | H52: ='지자체 수출'!H10/100000 -> 365.12006 | I52: ='지자체 수출'!I10/100000 -> 452.66164 | ... R52: ='지자체 수출'!R10/100000 -> 0.5783
A53: 2017 | B53: ='지자체 수출'!B9/100000 -> 632.166 | C53: ='지자체 수출'!C9/100000 -> 549.39555 | D53: ='지자체 수출'!D9/100000 -> 389.61041 | E53: ='지자체 수출'!E9/100000 -> 247.17564 | F53: ='지자체 수출'!F9/100000 -> 159.41546 | G53: ='지자체 수출'!G9/100000 -> 190.4521 | H53: ='지자체 수출'!H9/100000 -> 313.38006 | I53: ='지자체 수출'!I9/100000 -> 395.17247 | ... R53: ='지자체 수출'!R9/100000 -> 0.56766
A54: 2018 | B54: ='지자체 수출'!B8/100000 -> 556.70532 | C54: ='지자체 수출'!C8/100000 -> 451.81861 | D54: ='지자체 수출'!D8/100000 -> 335.19624 | E54: ='지자체 수출'!E8/100000 -> 244.84859 | F54: ='지자체 수출'!F8/100000 -> 130.32955 | G54: ='지자체 수출'!G8/100000 -> 162.5296 | H54: ='지자체 수출'!H8/100000 -> 266.85339 | I54: ='지자체 수출'!I8/100000 -> 387.09171 | ... R54: ='지자체 수출'!R8/100000 -> 0.63281
A55: 2019 | B55: ='지자체 수출'!B7/100000 -> 464.65694 | C55: ='지자체 수출'!C7/100000 -> 374.7008 | D55: ='지자체 수출'!D7/100000 -> 292.7155 | E55: ='지자체 수출'!E7/100000 -> 299.23964 | F55: ='지자체 수출'!F7/100000 -> 106.45014 | G55: ='지자체 수출'!G7/100000 -> 126.08643 | H55: ='지자체 수출'!H7/100000 -> 242.9239 | I55: ='지자체 수출'!I7/100000 -> 339.51242 | ... R55: ='지자체 수출'!R7/100000 -> 0.69719
A56: 2020 | B56: ='지자체 수출'!B6/100000 -> 362.27558 | C56: ='지자체 수출'!C6/100000 -> 274.84944 | D56: ='지자체 수출'!D6/100000 -> 198.06013 | E56: ='지자체 수출'!E6/100000 -> 277.69875 | F56: ='지자체 수출'!F6/100000 -> 82.21311 | G56: ='지자체 수출'!G6/100000 -> 88.83563 | H56: ='지자체 수출'!H6/100000 -> 192.36299 | I56: ='지자체 수출'!I6/100000 -> 250.88458 | ... R56: ='지자체 수출'!R6/100000 -> 0.58578
A57: 2021 | B57: ='지자체 수출'!B5/100000 -> 319.65499 | C57: ='지자체 수출'!C5/100000 -> 241.77072 | D57: ='지자체 수출'!D5/100000 -> 151.50513 | E57: ='지자체 수출'!E5/100000 -> 258.62921 | F57: ='지자체 수출'!F5/100000 -> 56.80684 | G57: ='지자체 수출'!G5/100000 -> 64.25792 | H57: ='지자체 수출'!H5/100000 -> 173.36016 | I57: ='지자체 수출'!I5/100000 -> 175.65775 | ... R57: ='지자체 수출'!R5/100000 -> 0.44631
A58: 2022 | B58: ='지자체 수출'!B4/100000 -> 299.46036 | C58: ='지자체 수출'!C4/100000 -> 199.50546 | D58: ='지자체 수출'!D4/100000 -> 116.52525 | E58: ='지자체 수출'!E4/100000 -> 291.54567 | F58: ='지자체 수출'!F4/100000 -> 60.25885 | G58: ='지자체 수출'!G4/100000 -> 51.76724 | H58: ='지자체 수출'!H4/100000 -> 171.34337 | I58: ='지자체 수출'!I4/100000 -> 144.62156 | ... R58: ='지자체 수출'!R4/100000 -> 0.4473
A59: 2023 | B59: ='지자체 수출'!B3/100000 -> 380.41067 | C59: ='지자체 수출'!C3/100000 -> 199.72128 | D59: ='지자체 수출'!D3/100000 -> 169.90792 | E59: ='지자체 수출'!E3/100000 -> 319.13418 | F59: ='지자체 수출'!F3/100000 -> 75.26894 | G59: ='지자체 수출'!G3/100000 -> 58.04947 | H59: ='지자체 수출'!H3/100000 -> 166.51312 | I59: ='지자체 수출'!I3/100000 -> 156.52528 | ... R59: ='지자체 수출'!R3/100000 -> 0.39827
